BEGIN:VCALENDAR
VERSION:2.0
PRODID:-//Reit- und Fahrverein Hambergen e.V. - ECPv6.15.20//NONSGML v1.0//EN
CALSCALE:GREGORIAN
METHOD:PUBLISH
X-WR-CALNAME:Reit- und Fahrverein Hambergen e.V.
X-ORIGINAL-URL:https://rfv-hambergen.de
X-WR-CALDESC:Veranstaltungen für Reit- und Fahrverein Hambergen e.V.
REFRESH-INTERVAL;VALUE=DURATION:PT1H
X-Robots-Tag:noindex
X-PUBLISHED-TTL:PT1H
BEGIN:VTIMEZONE
TZID:Europe/Berlin
BEGIN:DAYLIGHT
TZOFFSETFROM:+0100
TZOFFSETTO:+0200
TZNAME:CEST
DTSTART:20230326T010000
END:DAYLIGHT
BEGIN:STANDARD
TZOFFSETFROM:+0200
TZOFFSETTO:+0100
TZNAME:CET
DTSTART:20231029T010000
END:STANDARD
BEGIN:DAYLIGHT
TZOFFSETFROM:+0100
TZOFFSETTO:+0200
TZNAME:CEST
DTSTART:20240331T010000
END:DAYLIGHT
BEGIN:STANDARD
TZOFFSETFROM:+0200
TZOFFSETTO:+0100
TZNAME:CET
DTSTART:20241027T010000
END:STANDARD
BEGIN:DAYLIGHT
TZOFFSETFROM:+0100
TZOFFSETTO:+0200
TZNAME:CEST
DTSTART:20250330T010000
END:DAYLIGHT
BEGIN:STANDARD
TZOFFSETFROM:+0200
TZOFFSETTO:+0100
TZNAME:CET
DTSTART:20251026T010000
END:STANDARD
END:VTIMEZONE
BEGIN:VEVENT
DTSTART;TZID=Europe/Berlin:20240624T190000
DTEND;TZID=Europe/Berlin:20240624T210000
DTSTAMP:20260422T181938
CREATED:20240229T190423Z
LAST-MODIFIED:20240229T190837Z
UID:5758-1719255600-1719262800@rfv-hambergen.de
SUMMARY:Mitgliederversammlung
DESCRIPTION:Mitgliederversammlung zur Turniervorbereitung – Infos folgen
URL:https://rfv-hambergen.de/termin/mitgliederversammlung/
LOCATION:Casino
END:VEVENT
END:VCALENDAR