BEGIN:VCALENDAR
VERSION:2.0
PRODID:-//Reit- und Fahrverein Hambergen e.V. - ECPv6.15.20//NONSGML v1.0//EN
CALSCALE:GREGORIAN
METHOD:PUBLISH
X-ORIGINAL-URL:https://rfv-hambergen.de
X-WR-CALDESC:Veranstaltungen für Reit- und Fahrverein Hambergen e.V.
REFRESH-INTERVAL;VALUE=DURATION:PT1H
X-Robots-Tag:noindex
X-PUBLISHED-TTL:PT1H
BEGIN:VTIMEZONE
TZID:Europe/Berlin
BEGIN:DAYLIGHT
TZOFFSETFROM:+0100
TZOFFSETTO:+0200
TZNAME:CEST
DTSTART:20230326T010000
END:DAYLIGHT
BEGIN:STANDARD
TZOFFSETFROM:+0200
TZOFFSETTO:+0100
TZNAME:CET
DTSTART:20231029T010000
END:STANDARD
BEGIN:DAYLIGHT
TZOFFSETFROM:+0100
TZOFFSETTO:+0200
TZNAME:CEST
DTSTART:20240331T010000
END:DAYLIGHT
BEGIN:STANDARD
TZOFFSETFROM:+0200
TZOFFSETTO:+0100
TZNAME:CET
DTSTART:20241027T010000
END:STANDARD
BEGIN:DAYLIGHT
TZOFFSETFROM:+0100
TZOFFSETTO:+0200
TZNAME:CEST
DTSTART:20250330T010000
END:DAYLIGHT
BEGIN:STANDARD
TZOFFSETFROM:+0200
TZOFFSETTO:+0100
TZNAME:CET
DTSTART:20251026T010000
END:STANDARD
END:VTIMEZONE
BEGIN:VEVENT
DTSTART;TZID=Europe/Berlin:20240708T180000
DTEND;TZID=Europe/Berlin:20240711T210000
DTSTAMP:20260422T165719
CREATED:20240708T122526Z
LAST-MODIFIED:20240708T122526Z
UID:5864-1720461600-1720731600@rfv-hambergen.de
SUMMARY:Arbeitsdienst zur Turniervorbereitung
DESCRIPTION:Liebe Vereinsmitglieder und Freunde des Vereins\, \nzur Turniervorbereitung findet diese Woche wieder jeden Abend ab 18:00 Arbeitsdienst auf dem Turnierplatz statt.
URL:https://rfv-hambergen.de/termin/arbeitsdienst-zur-turniervorbereitung/
LOCATION:Turniergelände auf dem Langen Berg\, Bullwinkler Weg 1\, Hambergen
END:VEVENT
BEGIN:VEVENT
DTSTART;TZID=Europe/Berlin:20240712T080000
DTEND;TZID=Europe/Berlin:20240714T180000
DTSTAMP:20260422T165719
CREATED:20240229T190652Z
LAST-MODIFIED:20240708T124302Z
UID:5760-1720771200-1720980000@rfv-hambergen.de
SUMMARY:Reitturnier 2024
DESCRIPTION:Infos unter : Turnier
URL:https://rfv-hambergen.de/termin/reitturnier-2024/
LOCATION:Turniergelände auf dem Langen Berg\, Bullwinkler Weg 1\, Hambergen
END:VEVENT
END:VCALENDAR